BEGIN:VCALENDAR
VERSION:2.0
PRODID:-//Dezavelle - ECPv5.10.0//NONSGML v1.0//EN
CALSCALE:GREGORIAN
METHOD:PUBLISH
X-WR-CALNAME:Dezavelle
X-ORIGINAL-URL:https://dezavelle.com/cabinet-dpo
X-WR-CALDESC:évènements pour Dezavelle
BEGIN:VTIMEZONE
TZID:Europe/Paris
BEGIN:DAYLIGHT
TZOFFSETFROM:+0100
TZOFFSETTO:+0200
TZNAME:CEST
DTSTART:20170326T010000
END:DAYLIGHT
BEGIN:STANDARD
TZOFFSETFROM:+0200
TZOFFSETTO:+0100
TZNAME:CET
DTSTART:20171029T010000
END:STANDARD
END:VTIMEZONE
BEGIN:VEVENT
DTSTART;TZID=Europe/Paris:20171208T143000
DTEND;TZID=Europe/Paris:20171208T153000
DTSTAMP:20260424T040446
CREATED:20171130T075906Z
LAST-MODIFIED:20171130T092428Z
UID:846-1512743400-1512747000@dezavelle.com
SUMMARY:Webinar EFSI Getting prepared to the new European data protection rules
DESCRIPTION:The General Data Protection Regulation (GDPR) will enter into force on 25 May\, 2018 and will have major implications for companies. How to approach this new privacy law and what are the most important aspects for the personal and household services (PHS) sector are core issues. \nThe aim of this webinar is to advise you on how to prepare for this important move and to present you the sectorial solution implemented in France by FESP (Fédération du Service aux particuliers). \nSpeakers are: \n–          Ms. Sandra Küntzmann\, FESP Vice-President\, \n–          Mr. Jean-Michel Livowsky\, Data protection expert within the law firm Dézavelle-Livowsky & Associates\, and DPO Officer for the PHS sector in France\, \n–          Ms. Aurélie Decker\, EFSI’s Director \nThe presentations will be followed by a Q&A session. \nThis webinar session will be recorded and be made available on EFSI’s Intranet in the following days. \nWould you have any question\, do not hesitate to contact us (info@efsi-europe.eu).
URL:https://dezavelle.com/cabinet-dpo/event/webinar-efsi-gdpr/
ATTACH;FMTTYPE=image/gif:https://dezavelle.com/cabinet-dpo/wp-content/uploads/2017/11/image008.gif
END:VEVENT
END:VCALENDAR