BEGIN:VCALENDAR
VERSION:2.0
PRODID:-//Dezavelle - ECPv5.10.0//NONSGML v1.0//EN
CALSCALE:GREGORIAN
METHOD:PUBLISH
X-WR-CALNAME:Dezavelle
X-ORIGINAL-URL:https://dezavelle.com/cabinet-dpo
X-WR-CALDESC:évènements pour Dezavelle
BEGIN:VTIMEZONE
TZID:Europe/Paris
BEGIN:DAYLIGHT
TZOFFSETFROM:+0100
TZOFFSETTO:+0200
TZNAME:CEST
DTSTART:20170326T010000
END:DAYLIGHT
BEGIN:STANDARD
TZOFFSETFROM:+0200
TZOFFSETTO:+0100
TZNAME:CET
DTSTART:20171029T010000
END:STANDARD
END:VTIMEZONE
BEGIN:VEVENT
DTSTART;TZID=Europe/Paris:20170315T100000
DTEND;TZID=Europe/Paris:20170316T190000
DTSTAMP:20260424T042102
CREATED:20171130T091709Z
LAST-MODIFIED:20171130T092545Z
UID:848-1489572000-1489690800@dezavelle.com
SUMMARY:Université du numérique : DPO Expert rencontre Parrainer la Croissance
DESCRIPTION:Jean-Michel Livowsky\, président de DPO Expert échange avec Denis Jacquet\, président de Parrainer la Croissance\, sur le big data et l’évolution des règles européennes de protection des données personnelles pour les entreprises\, à l’occasion de l’Université du numérique organisée par le Medef\, les 15 et 16 février 2017\, à Paris. Un moment privilégié aussi pour présenter le dernier livre en date de Denis Jacquet\, « l’Ubérisation\, un ennemi qui vous veut du bien »\, paru récemment aux éditions Dunod.
URL:https://dezavelle.com/cabinet-dpo/event/universite-numerique-dpo-expert-rencontre-parrainer-croissance/
END:VEVENT
END:VCALENDAR