BEGIN:VCALENDAR
VERSION:2.0
PRODID:-//Dezavelle - ECPv5.10.0//NONSGML v1.0//EN
CALSCALE:GREGORIAN
METHOD:PUBLISH
X-WR-CALNAME:Dezavelle
X-ORIGINAL-URL:https://dezavelle.com/cabinet-dpo
X-WR-CALDESC:évènements pour Dezavelle
BEGIN:VTIMEZONE
TZID:Europe/Paris
BEGIN:DAYLIGHT
TZOFFSETFROM:+0100
TZOFFSETTO:+0200
TZNAME:CEST
DTSTART:20170326T010000
END:DAYLIGHT
BEGIN:STANDARD
TZOFFSETFROM:+0200
TZOFFSETTO:+0100
TZNAME:CET
DTSTART:20171029T010000
END:STANDARD
END:VTIMEZONE
BEGIN:VEVENT
DTSTART;TZID=Europe/Paris:20170315T100000
DTEND;TZID=Europe/Paris:20170316T190000
DTSTAMP:20260424T053426
CREATED:20171130T093000Z
LAST-MODIFIED:20171130T093000Z
UID:850-1489572000-1489690800@dezavelle.com
SUMMARY:DPO Expert présent à l'Université du numérique du Medef 2017
DESCRIPTION:S. Küntzmann\, vice-présidente de la FESP\, Pierre Gattaz\, présqident du Medef\, Jean-Michel Livowsky\, président DPO Expert\nDPO Expert était présent\, avec Jean-Michel Livowsky\, lors de la 6e édition de l’Université Numérique\, organisée par le Medef\, à Paris\, les 15 et 16 mars 2017\, avec pour thème principal « la data dans tous ses états ». Le moment était privilégié pour échanger avec l’ensemble des acteurs internationaux de l’économie numérique et de la protection de données. Tout un programme ! \nDPO était accompagné de Sandra Küntzmann\, vice-présidente de la FESP\, première fédération française de TPE-PME à avoir signé une convention mettant en place un CIL mutualisé pour l’ensemble de ses adhérents. \nVoir le programme : https://www.universitedunumeriquemedef.fr/
URL:https://dezavelle.com/cabinet-dpo/event/dpo-expert-present-a-luniversite-numerique-medef-2017/
END:VEVENT
END:VCALENDAR